BEGIN:VCALENDAR
VERSION:2.0
PRODID:-//ChamberMaster//Event Calendar 2.0//EN
METHOD:PUBLISH
X-PUBLISHED-TTL:P3D
REFRESH-INTERVAL:P3D
CALSCALE:GREGORIAN
BEGIN:VEVENT
DTSTART:20101210T124500Z
DTEND:20101210T140000Z
X-MICROSOFT-CDO-ALLDAYEVENT:FALSE
SUMMARY:Puttin on Pekin Breakfast
DESCRIPTION:The Chamber's Pekin 1st Committee brings you this great networking and promotional opportunity!  You "get" breakfast\, announcements\, door prize drawings and awards.  Meet the New Chamber Members\, 1-minute reminders and much more!  You'll want to be there because it's the BIG YEAR END DOOR PRIZE DRAWING! Plus Holiday entertainment.
X-ALT-DESC;FMTTYPE=text/html:<div><div>The Chamber's Pekin 1st Committee brings you this great networking and promotional opportunity!&nbsp\; You &quot\;get&quot\; breakfast\, announcements\, door prize drawings and awards.&nbsp\; Meet the New Chamber Members\, 1-minute reminders and much more!&nbsp\;</div><div>&nbsp\;</div><div>You'll want to be there because it's the BIG YEAR END DOOR PRIZE DRAWING!&nbsp\;</div><div>Plus Holiday entertainment.</div></div>
LOCATION:Knights of Columbus Hall715 N. 11th St.Pekin\, IL 61554
UID:e.112.4698
SEQUENCE:3
DTSTAMP:20260422T112958Z
URL:http://www.business.pekinchamber.com/events/details/puttin-on-pekin-breakfast-12-10-2010-4698
END:VEVENT

END:VCALENDAR
