BEGIN:VCALENDAR
VERSION:2.0
PRODID:-//ChamberMaster//Event Calendar 2.0//EN
METHOD:PUBLISH
X-PUBLISHED-TTL:P3D
REFRESH-INTERVAL:P3D
CALSCALE:GREGORIAN
BEGIN:VEVENT
DTSTART:20111209T124500Z
DTEND:20111209T140000Z
X-MICROSOFT-CDO-ALLDAYEVENT:FALSE
SUMMARY:Puttin on Pekin Breakfast
DESCRIPTION:The Chamber's Pekin 1st Committee brings you this great networking and promotional opportunity!  You "get" breakfast\, announcements\, door prize drawings and awards.  Meet the New Chamber Members\, 1-minute reminders and much more! \n\n\n\n\n	You'll want to be there because it's the BIG YEAR END DOOR PRIZE DRAWING!\n\n	Plus Holiday entertainment.
X-ALT-DESC;FMTTYPE=text/html:The Chamber&#39\;s Pekin 1st Committee brings you this great networking and promotional opportunity!&nbsp\; You &quot\;get&quot\; breakfast\, announcements\, door prize drawings and awards.&nbsp\; Meet the New Chamber Members\, 1-minute reminders and much more!&nbsp\;<br />\n<br />\n<div>\n	You&#39\;ll want to be there because it&#39\;s the BIG YEAR END DOOR PRIZE DRAWING!</div>\n<div>\n	Plus Holiday entertainment.<span _fck_bookmark="1" style="display: none">&nbsp\;</span></div>\n<br />\n
LOCATION:Knigtsof Columbus Hall 715 N. 11th St. Pekin\, IL 61554
UID:e.112.5074
SEQUENCE:3
DTSTAMP:20260420T131750Z
URL:http://www.business.pekinchamber.com/events/details/puttin-on-pekin-breakfast-12-09-2011-5074
END:VEVENT

END:VCALENDAR
