BEGIN:VCALENDAR
VERSION:2.0
PRODID:-//ChamberMaster//Event Calendar 2.0//EN
METHOD:PUBLISH
X-PUBLISHED-TTL:P3D
REFRESH-INTERVAL:P3D
CALSCALE:GREGORIAN
BEGIN:VEVENT
DTSTART:20100212T123000Z
DTEND:20100212T133000Z
X-MICROSOFT-CDO-ALLDAYEVENT:FALSE
SUMMARY:Puttin On Pekin Breakfast
DESCRIPTION:The Chamber's Pekin 1st Committee brings you this great networking and promotional opportunity!  You "get" breakfast\, announcements\, door prize drawings and awards.  Meet the New Chamber Members\, 1-minute reminders and much more!  This month's featured program:
X-ALT-DESC;FMTTYPE=text/html:<div>The Chamber's Pekin 1st Committee brings you this great networking and promotional opportunity!&nbsp\; You &quot\;get&quot\; breakfast\, announcements\, door prize drawings and awards.&nbsp\; Meet the New Chamber Members\, 1-minute reminders and much more!&nbsp\; This month's featured program:</div>
LOCATION:PCHS Holman CenterTech / Ed Program(across from Stadium)
UID:e.112.4693
SEQUENCE:3
DTSTAMP:20260423T023759Z
URL:http://www.business.pekinchamber.com/events/details/puttin-on-pekin-breakfast-02-12-2010-4693
END:VEVENT

END:VCALENDAR
