BEGIN:VCALENDAR
VERSION:2.0
PRODID:-//ChamberMaster//Event Calendar 2.0//EN
METHOD:PUBLISH
X-PUBLISHED-TTL:P3D
REFRESH-INTERVAL:P3D
CALSCALE:GREGORIAN
BEGIN:VEVENT
DTSTART:20090801T150000Z
DTEND:20090801T220000Z
X-MICROSOFT-CDO-ALLDAYEVENT:FALSE
SUMMARY:Pre-Rockin' Ride For TAPS
DESCRIPTION:A new addition the days events! Cost: $15.00 / bike (single or double)\, Includes: 1) Entrance admission to Rockin Event (end point of ride)2) Best hand wins prize money.  Start Time/Sign-In: 10:00 am at McDuff's-Pekin Route: 1) START- McDuffs (Pekin)\, 2) StagTap (Havanna)\, 3) McDucks Banner)\, 4) Billy's Bar (Canton)\, 5) Brown Jug (Trivoli)\, 6) Mooney's (Peoria)\, 7) END- Pekin Boat Club  All funds raised go to support the Tazewell Animal Protective Society (TAPS) a no-kill animal shelter. Come help those that can't help themselves.  Check out myspace.com/markwelp or http://www.myspace.com/rockinfortaps or www.tapsshelter.org for more information
X-ALT-DESC;FMTTYPE=text/html:<div><div style="text-align: left\; margin-top: 0in\; margin-bottom: 0pt\; margin-right: 0in"><span style="font-size: small"><i>A new addition the days events!</i></span></div><div style="text-align: left\; margin-top: 0in\; margin-bottom: 0pt\; margin-right: 0in">&nbsp\;</div><div style="text-align: left\; margin-top: 0in\; margin-bottom: 0pt\; margin-right: 0in"><span style="font-size: small"><b><u>Cost:</u></b> $15.00 / bike (single or double)\, </span><span style="font-size: small">Includes: </span></div><div style="text-align: left\; margin-top: 0in\; margin-bottom: 0pt\; margin-right: 0in"><span style="font-size: small">1) Entrance admission to Rockin Event (end point of ride)</span></div><div style="text-align: left\; margin-top: 0in\; margin-bottom: 0pt\; margin-right: 0in"><span style="font-size: small">2) Best hand wins prize money. </span></div><div style="text-align: left\; margin-top: 0in\; margin-bottom: 0pt\; margin-right: 0in">&nbsp\;</div><div style="text-align: left\; margin-top: 0in\; margin-bottom: 0pt\; margin-right: 0in"><span style="font-size: small"><b><u>Start Time/Sign-In:</u></b> 10:00 am at McDuff&rsquo\;s-Pekin</span></div><div style="text-align: left\; margin-top: 0in\; margin-bottom: 0pt\; margin-right: 0in">&nbsp\;</div><div style="text-align: left\; margin-top: 0in\; margin-bottom: 0pt\; margin-right: 0in"><span style="font-size: small"><b><u>Route:</u></b> 1) <i>START</i>- McDuffs (Pekin)\, 2) StagTap (Havanna)\, 3) McDucks </span><span style="font-size: small">Banner)\, 4) Billy&rsquo\;s Bar (Canton)\, 5) Brown Jug (Trivoli)\, 6) Mooney&rsquo\;s (Peoria)\, 7) <i>END</i>- Pekin Boat Club</span></div><div style="text-align: left\; margin-top: 0in\; margin-bottom: 0pt\; margin-right: 0in"><span style="font-size: small">&nbsp\;</span><span style="font-size: small">&nbsp\;</span></div><div style="text-align: left\; margin-top: 0in\; margin-bottom: 0pt\; margin-right: 0in"><span style="font-size: small">All funds raised go to support the Tazewell Animal Protective Society (TAPS) a no-kill animal shelter. Come help those that can&rsquo\;t help themselves.&nbsp\; </span><span style="font-size: small">Check out </span><span style="color: black"><a target="_blank" href="http://myspace.com/markwelp"><span style="font-size: small">myspace.com/markwelp</span></a></span><span style="font-size: small"><span style="color: black"> or </span></span><a href="http://www.myspace.com/rockinfortaps"><span style="font-size: small">http://www.myspace.com/rockinfortaps</span></a><span style="font-size: small"> or </span></div><div style="text-align: left\; margin-top: 0in\; margin-bottom: 0pt\; margin-right: 0in"><a href="http://www.tapsshelter.org/"><span style="font-size: small">www.tapsshelter.org</span></a><span style="font-size: small"> for more information</span></div></div>
LOCATION:
UID:e.112.3723
SEQUENCE:3
DTSTAMP:20260423T113701Z
URL:http://www.business.pekinchamber.com/events/details/pre-rockin-ride-for-taps-08-01-2009-3723
END:VEVENT

END:VCALENDAR
