BEGIN:VCALENDAR
VERSION:2.0
PRODID:-//ChamberMaster//Event Calendar 2.0//EN
METHOD:PUBLISH
X-PUBLISHED-TTL:P3D
REFRESH-INTERVAL:P3D
CALSCALE:GREGORIAN
BEGIN:VEVENT
DTSTART;VALUE=DATE:20080825
DTEND;VALUE=DATE:20080826
TRANSP:TRANSPARENT
X-MICROSOFT-CDO-ALLDAYEVENT:TRUE
SUMMARY:PEPSI Marigold Medallion Hunt
DESCRIPTION:Ist clue released by noon
X-ALT-DESC;FMTTYPE=text/html:<div>Ist clue released by noon</div>
LOCATION:
UID:e.112.3219
SEQUENCE:3
DTSTAMP:20260424T051029Z
URL:http://www.business.pekinchamber.com/events/details/pepsi-marigold-medallion-hunt-08-25-2008-3219
END:VEVENT

END:VCALENDAR
