BEGIN:VCALENDAR
VERSION:2.0
PRODID:-//ChamberMaster//Event Calendar 2.0//EN
METHOD:PUBLISH
X-PUBLISHED-TTL:P3D
REFRESH-INTERVAL:P3D
CALSCALE:GREGORIAN
BEGIN:VEVENT
DTSTART;VALUE=DATE:20100429
DTEND;VALUE=DATE:20100430
TRANSP:TRANSPARENT
X-MICROSOFT-CDO-ALLDAYEVENT:TRUE
SUMMARY:Peoria Chiefs vs. Wisconsin Timber Rattlers
DESCRIPTION:Throwback Thursday-We Love the 50s
X-ALT-DESC;FMTTYPE=text/html:Throwback Thursday-We Love the 50s
LOCATION:O'Brien Field-Downtown Peoria
UID:e.112.4880
SEQUENCE:3
DTSTAMP:20260422T234552Z
URL:http://www.business.pekinchamber.com/events/details/peoria-chiefs-vs-wisconsin-timber-rattlers-04-29-2010-4880
END:VEVENT

END:VCALENDAR
