BEGIN:VCALENDAR
VERSION:2.0
PRODID:-//ChamberMaster//Event Calendar 2.0//EN
METHOD:PUBLISH
X-PUBLISHED-TTL:P3D
REFRESH-INTERVAL:P3D
CALSCALE:GREGORIAN
BEGIN:VEVENT
DTSTART;VALUE=DATE:20100428
DTEND;VALUE=DATE:20100429
TRANSP:TRANSPARENT
X-MICROSOFT-CDO-ALLDAYEVENT:TRUE
SUMMARY:Peoria Chiefs vs. Wisconsin Timber Rattlers
DESCRIPTION:Wacky Weiner Wednesday-Free Hot Dogs and Peanuts\n\nSnoop Shizzle Night
X-ALT-DESC;FMTTYPE=text/html:Wacky Weiner Wednesday-Free Hot Dogs and Peanuts\n<br>Snoop Shizzle Night
LOCATION:O'Brien Field-Downtown Peoria
UID:e.112.4879
SEQUENCE:3
DTSTAMP:20260422T234704Z
URL:http://www.business.pekinchamber.com/events/details/peoria-chiefs-vs-wisconsin-timber-rattlers-04-28-2010-4879
END:VEVENT

END:VCALENDAR
