BEGIN:VCALENDAR
VERSION:2.0
PRODID:-//ChamberMaster//Event Calendar 2.0//EN
METHOD:PUBLISH
X-PUBLISHED-TTL:P3D
REFRESH-INTERVAL:P3D
CALSCALE:GREGORIAN
BEGIN:VEVENT
DTSTART;VALUE=DATE:20100427
DTEND;VALUE=DATE:20100428
TRANSP:TRANSPARENT
X-MICROSOFT-CDO-ALLDAYEVENT:TRUE
SUMMARY:Peoria Chiefs vs. Wisconsin Timber Rattlers
DESCRIPTION:Couples Night\n\nKraft Singles Tuesday\n\nTaco Bell Tuesday \n\nTuesday Senior Deal
X-ALT-DESC;FMTTYPE=text/html:Couples Night\n<br>Kraft Singles Tuesday\n<br>Taco Bell Tuesday \n<br>Tuesday Senior Deal
LOCATION:O'Brien Field-Downtown Peoria
UID:e.112.4878
SEQUENCE:3
DTSTAMP:20260422T234704Z
URL:http://www.business.pekinchamber.com/events/details/peoria-chiefs-vs-wisconsin-timber-rattlers-04-27-2010-4878
END:VEVENT

END:VCALENDAR
