BEGIN:VCALENDAR
VERSION:2.0
PRODID:-//ChamberMaster//Event Calendar 2.0//EN
METHOD:PUBLISH
X-PUBLISHED-TTL:P3D
REFRESH-INTERVAL:P3D
CALSCALE:GREGORIAN
BEGIN:VEVENT
DTSTART;VALUE=DATE:20100422
DTEND;VALUE=DATE:20100423
TRANSP:TRANSPARENT
X-MICROSOFT-CDO-ALLDAYEVENT:TRUE
SUMMARY:Peoria Chiefs vs. Kane County Cougars
DESCRIPTION:Throwback Thursday-Classic TV Night
X-ALT-DESC;FMTTYPE=text/html:Throwback Thursday-Classic TV Night
LOCATION:O'Brien Field-Downtown Peoria
UID:e.112.4877
SEQUENCE:3
DTSTAMP:20260422T234421Z
URL:http://www.business.pekinchamber.com/events/details/peoria-chiefs-vs-kane-county-cougars-04-22-2010-4877
END:VEVENT

END:VCALENDAR
