BEGIN:VCALENDAR
VERSION:2.0
PRODID:-//ChamberMaster//Event Calendar 2.0//EN
METHOD:PUBLISH
X-PUBLISHED-TTL:P3D
REFRESH-INTERVAL:P3D
CALSCALE:GREGORIAN
BEGIN:VEVENT
DTSTART;VALUE=DATE:20100421
DTEND;VALUE=DATE:20100422
TRANSP:TRANSPARENT
X-MICROSOFT-CDO-ALLDAYEVENT:TRUE
SUMMARY:Peoria Chiefs vs. Kane County Cougars
DESCRIPTION:DARE Day
X-ALT-DESC;FMTTYPE=text/html:DARE Day
LOCATION:O'Brien Field-Downtown Peoria
UID:e.112.4876
SEQUENCE:3
DTSTAMP:20260422T234406Z
URL:http://www.business.pekinchamber.com/events/details/peoria-chiefs-vs-kane-county-cougars-04-21-2010-4876
END:VEVENT

END:VCALENDAR
