BEGIN:VCALENDAR
VERSION:2.0
PRODID:-//ChamberMaster//Event Calendar 2.0//EN
METHOD:PUBLISH
X-PUBLISHED-TTL:P3D
REFRESH-INTERVAL:P3D
CALSCALE:GREGORIAN
BEGIN:VEVENT
DTSTART;VALUE=DATE:20100420
DTEND;VALUE=DATE:20100421
TRANSP:TRANSPARENT
X-MICROSOFT-CDO-ALLDAYEVENT:TRUE
SUMMARY:Peoria Chiefs vs. Kane County Cougars
DESCRIPTION:Take Me Out Tuesday-Cougar Night\n\nKraft Singles Tuesday\n\nTaco Bell Tuesday\n\nTuesday Senior Deal
X-ALT-DESC;FMTTYPE=text/html:Take Me Out Tuesday-Cougar Night\n<br>Kraft Singles Tuesday\n<br>Taco Bell Tuesday\n<br>Tuesday Senior Deal
LOCATION:O'Brien Field-Downtown Peoria
UID:e.112.4875
SEQUENCE:3
DTSTAMP:20260422T234254Z
URL:http://www.business.pekinchamber.com/events/details/peoria-chiefs-vs-kane-county-cougars-04-20-2010-4875
END:VEVENT

END:VCALENDAR
