BEGIN:VCALENDAR
VERSION:2.0
PRODID:-//ChamberMaster//Event Calendar 2.0//EN
METHOD:PUBLISH
X-PUBLISHED-TTL:P3D
REFRESH-INTERVAL:P3D
CALSCALE:GREGORIAN
BEGIN:VEVENT
DTSTART;VALUE=DATE:20100512
DTEND;VALUE=DATE:20100513
TRANSP:TRANSPARENT
X-MICROSOFT-CDO-ALLDAYEVENT:TRUE
SUMMARY:Peoria Chiefs vs. Clinton Lumber Kings
DESCRIPTION:GAMEday Education Day\n\nKraft Singles Tuesday\n\nTaco Bell Tuesday\n\nTuesday Senior Deal
X-ALT-DESC;FMTTYPE=text/html:GAMEday Education Day\n<br>Kraft Singles Tuesday\n<br>Taco Bell Tuesday\n<br>Tuesday Senior Deal
LOCATION:O'Brien Field-Downtown Peoria
UID:e.112.4889
SEQUENCE:3
DTSTAMP:20260422T220837Z
URL:http://www.business.pekinchamber.com/events/details/peoria-chiefs-vs-clinton-lumber-kings-05-12-2010-4889
END:VEVENT

END:VCALENDAR
