BEGIN:VCALENDAR
VERSION:2.0
PRODID:-//ChamberMaster//Event Calendar 2.0//EN
METHOD:PUBLISH
X-PUBLISHED-TTL:P3D
REFRESH-INTERVAL:P3D
CALSCALE:GREGORIAN
BEGIN:VEVENT
DTSTART;VALUE=DATE:20100503
DTEND;VALUE=DATE:20100504
TRANSP:TRANSPARENT
X-MICROSOFT-CDO-ALLDAYEVENT:TRUE
SUMMARY:Peoria Chiefs vs. Clinton Lumber Kings
DESCRIPTION:Half-Price Ticket Monday\n\nMovie Madness Monday-Mel Brooks Night
X-ALT-DESC;FMTTYPE=text/html:Half-Price Ticket Monday\n<br>Movie Madness Monday-Mel Brooks Night
LOCATION:O'Brien Field-Downtown Peoria
UID:e.112.4884
SEQUENCE:3
DTSTAMP:20260422T220753Z
URL:http://www.business.pekinchamber.com/events/details/peoria-chiefs-vs-clinton-lumber-kings-05-03-2010-4884
END:VEVENT

END:VCALENDAR
