BEGIN:VCALENDAR
VERSION:2.0
PRODID:-//ChamberMaster//Event Calendar 2.0//EN
METHOD:PUBLISH
X-PUBLISHED-TTL:P3D
REFRESH-INTERVAL:P3D
CALSCALE:GREGORIAN
BEGIN:VEVENT
DTSTART;VALUE=DATE:20100502
DTEND;VALUE=DATE:20100503
TRANSP:TRANSPARENT
X-MICROSOFT-CDO-ALLDAYEVENT:TRUE
SUMMARY:Peoria Chiefs vs. Clinton Lumber Kings
DESCRIPTION:Family FUN in the SUNday-Kids Eat Free (1 hot dog\, 1 soda\, 12 and under)\n\nDisney Day
X-ALT-DESC;FMTTYPE=text/html:Family FUN in the SUNday-Kids Eat Free (1 hot dog\, 1 soda\, 12 and under)\n<br>Disney Day
LOCATION:O'Brien Field-Downtown Peoria
UID:e.112.4883
SEQUENCE:3
DTSTAMP:20260422T220715Z
URL:http://www.business.pekinchamber.com/events/details/peoria-chiefs-vs-clinton-lumber-kings-05-02-2010-4883
END:VEVENT

END:VCALENDAR
