BEGIN:VCALENDAR
VERSION:2.0
PRODID:-//ChamberMaster//Event Calendar 2.0//EN
METHOD:PUBLISH
X-PUBLISHED-TTL:P3D
REFRESH-INTERVAL:P3D
CALSCALE:GREGORIAN
BEGIN:VEVENT
DTSTART;VALUE=DATE:20100419
DTEND;VALUE=DATE:20100420
TRANSP:TRANSPARENT
X-MICROSOFT-CDO-ALLDAYEVENT:TRUE
SUMMARY:Peoria Chiefs vs. Burlington Bees
DESCRIPTION:Half-Proce Ticket Monday\n\nMovie Madness Monday-Steve Martin Night
X-ALT-DESC;FMTTYPE=text/html:Half-Proce Ticket Monday\n<br>Movie Madness Monday-Steve Martin Night
LOCATION:O'Brien Field-Downtown Peoria
UID:e.112.4874
SEQUENCE:3
DTSTAMP:20260422T234406Z
URL:http://www.business.pekinchamber.com/events/details/peoria-chiefs-vs-burlington-bees-04-19-2010-4874
END:VEVENT

END:VCALENDAR
