BEGIN:VCALENDAR
VERSION:2.0
PRODID:-//ChamberMaster//Event Calendar 2.0//EN
METHOD:PUBLISH
X-PUBLISHED-TTL:P3D
REFRESH-INTERVAL:P3D
CALSCALE:GREGORIAN
BEGIN:VEVENT
DTSTART;VALUE=DATE:20100418
DTEND;VALUE=DATE:20100419
TRANSP:TRANSPARENT
X-MICROSOFT-CDO-ALLDAYEVENT:TRUE
SUMMARY:Peoria Chiefs vs. Burlington Bees
DESCRIPTION:Family FUN in the SUNday-Kids Eat Free (1 hot dog\, 1 soda\, 12 and under)\n\nCartoon Day
X-ALT-DESC;FMTTYPE=text/html:Family FUN in the SUNday-Kids Eat Free (1 hot dog\, 1 soda\, 12 and under)\n<br>Cartoon Day
LOCATION:O'Brien Field-Downtown Peoria
UID:e.112.4873
SEQUENCE:3
DTSTAMP:20260422T234406Z
URL:http://www.business.pekinchamber.com/events/details/peoria-chiefs-vs-burlington-bees-04-18-2010-4873
END:VEVENT

END:VCALENDAR
