BEGIN:VCALENDAR
VERSION:2.0
PRODID:-//ChamberMaster//Event Calendar 2.0//EN
METHOD:PUBLISH
X-PUBLISHED-TTL:P3D
REFRESH-INTERVAL:P3D
CALSCALE:GREGORIAN
BEGIN:VEVENT
DTSTART;VALUE=DATE:20100531
DTEND;VALUE=DATE:20100601
TRANSP:TRANSPARENT
X-MICROSOFT-CDO-ALLDAYEVENT:TRUE
SUMMARY:Peoria Chiefs vs. Beloit Snappers
DESCRIPTION:Half-Price Ticket Monday\n\nMilitary Appreciation Day\n\nOperation Santa 4 Mile Race/1 Mile Walk
X-ALT-DESC;FMTTYPE=text/html:Half-Price Ticket Monday\n<br>Military Appreciation Day\n<br>Operation Santa 4 Mile Race/1 Mile Walk
LOCATION:O'Brien Field-Downtown Peoria
UID:e.112.4897
SEQUENCE:3
DTSTAMP:20260422T220448Z
URL:http://www.business.pekinchamber.com/events/details/peoria-chiefs-vs-beloit-snappers-05-31-2010-4897
END:VEVENT

END:VCALENDAR
