BEGIN:VCALENDAR
VERSION:2.0
PRODID:-//ChamberMaster//Event Calendar 2.0//EN
METHOD:PUBLISH
X-PUBLISHED-TTL:P3D
REFRESH-INTERVAL:P3D
CALSCALE:GREGORIAN
BEGIN:VEVENT
DTSTART;VALUE=DATE:20100530
DTEND;VALUE=DATE:20100531
TRANSP:TRANSPARENT
X-MICROSOFT-CDO-ALLDAYEVENT:TRUE
SUMMARY:Peoria Chiefs vs. Beloit Snappers
DESCRIPTION:Family FUN in the SUNday-Kids Eat Free (1 hot dog\, 1 soda\, 12 and under)\n\nMascot Mania
X-ALT-DESC;FMTTYPE=text/html:Family FUN in the SUNday-Kids Eat Free (1 hot dog\, 1 soda\, 12 and under)\n<br>Mascot Mania
LOCATION:O'Brien Field-Downtown Peoria
UID:e.112.4896
SEQUENCE:3
DTSTAMP:20260422T220431Z
URL:http://www.business.pekinchamber.com/events/details/peoria-chiefs-vs-beloit-snappers-05-30-2010-4896
END:VEVENT

END:VCALENDAR
