BEGIN:VCALENDAR
VERSION:2.0
PRODID:-//ChamberMaster//Event Calendar 2.0//EN
METHOD:PUBLISH
X-PUBLISHED-TTL:P3D
REFRESH-INTERVAL:P3D
CALSCALE:GREGORIAN
BEGIN:VEVENT
DTSTART;VALUE=DATE:20100529
DTEND;VALUE=DATE:20100530
TRANSP:TRANSPARENT
X-MICROSOFT-CDO-ALLDAYEVENT:TRUE
SUMMARY:Peoria Chiefs vs. Beloit Snappers
DESCRIPTION:Fireworks! \n\nIrish Night
X-ALT-DESC;FMTTYPE=text/html:Fireworks! \n<br>Irish Night
LOCATION:O'Brien Field-Downtown Peoria
UID:e.112.4895
SEQUENCE:3
DTSTAMP:20260422T220448Z
URL:http://www.business.pekinchamber.com/events/details/peoria-chiefs-vs-beloit-snappers-05-29-2010-4895
END:VEVENT

END:VCALENDAR
