BEGIN:VCALENDAR
VERSION:2.0
PRODID:-//ChamberMaster//Event Calendar 2.0//EN
METHOD:PUBLISH
X-PUBLISHED-TTL:P3D
REFRESH-INTERVAL:P3D
CALSCALE:GREGORIAN
BEGIN:VEVENT
DTSTART;VALUE=DATE:20100528
DTEND;VALUE=DATE:20100529
TRANSP:TRANSPARENT
X-MICROSOFT-CDO-ALLDAYEVENT:TRUE
SUMMARY:Peoria Chiefs vs. Beloit Snappers
DESCRIPTION:FANomnenal Friday-Going Green Night\n\nBoy Scout Sleepover
X-ALT-DESC;FMTTYPE=text/html:FANomnenal Friday-Going Green Night\n<br>Boy Scout Sleepover
LOCATION:O'Brien Field-Downtown Peoria
UID:e.112.4894
SEQUENCE:3
DTSTAMP:20260422T220522Z
URL:http://www.business.pekinchamber.com/events/details/peoria-chiefs-vs-beloit-snappers-05-28-2010-4894
END:VEVENT

END:VCALENDAR
