BEGIN:VCALENDAR
VERSION:2.0
PRODID:-//ChamberMaster//Event Calendar 2.0//EN
METHOD:PUBLISH
X-PUBLISHED-TTL:P3D
REFRESH-INTERVAL:P3D
CALSCALE:GREGORIAN
BEGIN:VEVENT
DTSTART:20110514T120000Z
DTEND:20110514T170000Z
X-MICROSOFT-CDO-ALLDAYEVENT:FALSE
SUMMARY:Pekin Salvation Army 5K Run / Walk
DESCRIPTION:Pekin Salvation Army's second annual 5K Run/Walk\, benefiting youth programs and activities at the Army.\n\n\n\nTimes: \n\nRun 7:00 am (check-in open at 6:00 am)\n\nWalk 8:00 am\n\n\n\nAge Divisions: 14 & under\, 15-19\, 20-29\, 30-39\, 40-49\, 50-59\, 60 & over\n\n\n\nAwards: (5K Run Only) Awards will be given for overall top male and female runners and for the first three places for both male and female in each age division.
X-ALT-DESC;FMTTYPE=text/html:Pekin Salvation Army's second annual 5K Run/Walk\, benefiting youth programs and activities at the Army.\n<br>\n<br>Times: \n<br>Run 7:00 am (check-in open at 6:00 am)\n<br>Walk 8:00 am\n<br>\n<br>Age Divisions: 14 &amp\; under\, 15-19\, 20-29\, 30-39\, 40-49\, 50-59\, 60 &amp\; over\n<br>\n<br>Awards: (5K Run Only) Awards will be given for overall top male and female runners and for the first three places for both male and female in each age division.
LOCATION:Coal Miners' Park in Pekin
UID:e.112.5357
SEQUENCE:3
DTSTAMP:20260422T034326Z
URL:http://www.business.pekinchamber.com/events/details/pekin-salvation-army-5k-run-walk-05-14-2011-5357
END:VEVENT

END:VCALENDAR
