BEGIN:VCALENDAR
VERSION:2.0
PRODID:-//ChamberMaster//Event Calendar 2.0//EN
METHOD:PUBLISH
X-PUBLISHED-TTL:P3D
REFRESH-INTERVAL:P3D
CALSCALE:GREGORIAN
BEGIN:VEVENT
DTSTART:20100501T183000Z
DTEND:20100501T230000Z
X-MICROSOFT-CDO-ALLDAYEVENT:FALSE
SUMMARY:Pekin Riding Club Kentucky Derby Party
DESCRIPTION:Pekin Riding Club is hosting a Kentucky Derby Party as a fundraiser for the club.  The event will feature games\, an auction and an opportunity to watch the Kentucky Derby!  Prizes include items from local businesses\, artists and even Churchill Dows\, the home of the Derby!   Free Derby memorabilia to the first 50 people to arrive!
X-ALT-DESC;FMTTYPE=text/html:Pekin Riding Club is hosting a Kentucky Derby Party as a fundraiser for the club.  The event will feature games\, an auction and an opportunity to watch the Kentucky Derby!  Prizes include items from local businesses\, artists and even Churchill Dows\, the home of the Derby!   Free Derby memorabilia to the first 50 people to arrive!
LOCATION:Pekin AMVETS Hall 1426 South 2nd Street\, Pekin\, IL
UID:e.112.4871
SEQUENCE:3
DTSTAMP:20260422T221246Z
URL:http://www.business.pekinchamber.com/events/details/pekin-riding-club-kentucky-derby-party-05-01-2010-4871
END:VEVENT

END:VCALENDAR
