BEGIN:VCALENDAR
VERSION:2.0
PRODID:-//ChamberMaster//Event Calendar 2.0//EN
METHOD:PUBLISH
X-PUBLISHED-TTL:P3D
REFRESH-INTERVAL:P3D
CALSCALE:GREGORIAN
BEGIN:VEVENT
DTSTART:20091029T223000Z
DTEND:20091030T003000Z
X-MICROSOFT-CDO-ALLDAYEVENT:FALSE
SUMMARY:Pekin Night Out Against Crime
DESCRIPTION:Free food\, drinks\, music\, prizes\, inflatable rides and police demonstrations.
X-ALT-DESC;FMTTYPE=text/html:<div>Free food\, drinks\, music\, prizes\, inflatable rides and police demonstrations.</div>
LOCATION:Pekin Dragon's Dome3401 Griffin Avenue
UID:e.112.3728
SEQUENCE:3
DTSTAMP:20260423T084503Z
URL:http://www.business.pekinchamber.com/events/details/pekin-night-out-against-crime-10-29-2009-3728
END:VEVENT

END:VCALENDAR
