BEGIN:VCALENDAR
VERSION:2.0
PRODID:-//ChamberMaster//Event Calendar 2.0//EN
METHOD:PUBLISH
X-PUBLISHED-TTL:P3D
REFRESH-INTERVAL:P3D
CALSCALE:GREGORIAN
BEGIN:VEVENT
DTSTART:20090913T140000Z
DTEND:20090913T220000Z
X-MICROSOFT-CDO-ALLDAYEVENT:FALSE
SUMMARY:Pekin Marigold Festival
DESCRIPTION:Pekin Marigold Festival
X-ALT-DESC;FMTTYPE=text/html:<div>Pekin Marigold Festival</div>
LOCATION:Mineral Springs Park
UID:e.112.3352
SEQUENCE:3
DTSTAMP:20260423T100305Z
URL:http://www.business.pekinchamber.com/events/details/pekin-marigold-festival-09-13-2009-3352
END:VEVENT

END:VCALENDAR
