BEGIN:VCALENDAR
VERSION:2.0
PRODID:-//ChamberMaster//Event Calendar 2.0//EN
METHOD:PUBLISH
X-PUBLISHED-TTL:P3D
REFRESH-INTERVAL:P3D
CALSCALE:GREGORIAN
BEGIN:VEVENT
DTSTART:20100912T140000Z
DTEND:20100912T220000Z
X-MICROSOFT-CDO-ALLDAYEVENT:FALSE
SUMMARY:Pekin Marigold Festival
DESCRIPTION:Pekin Marigold Festival Weekend
X-ALT-DESC;FMTTYPE=text/html:<div>Pekin Marigold Festival Weekend</div>
LOCATION:Mineral Springs Park
UID:e.112.4556
SEQUENCE:3
DTSTAMP:20260422T160110Z
URL:http://www.business.pekinchamber.com/events/details/pekin-marigold-festival-09-12-2010-4556
END:VEVENT

END:VCALENDAR
