BEGIN:VCALENDAR
VERSION:2.0
PRODID:-//ChamberMaster//Event Calendar 2.0//EN
METHOD:PUBLISH
X-PUBLISHED-TTL:P3D
REFRESH-INTERVAL:P3D
CALSCALE:GREGORIAN
BEGIN:VEVENT
DTSTART:20080906T140000Z
DTEND:20080906T230000Z
X-MICROSOFT-CDO-ALLDAYEVENT:FALSE
SUMMARY:Pekin Marigold Festival
DESCRIPTION:Visit http://www.pekin.net/MarigoldFestival08sked.htm for a complete schedule of festival events
X-ALT-DESC;FMTTYPE=text/html:<div>&nbsp\;</div><div>Visit <a href="http://www.pekin.net/MarigoldFestival08sked.htm">http://www.pekin.net/MarigoldFestival08sked.htm</a>&nbsp\;for a complete schedule of festival events</div>
LOCATION:
UID:e.112.3205
SEQUENCE:3
DTSTAMP:20260424T035944Z
URL:http://www.business.pekinchamber.com/events/details/pekin-marigold-festival-09-06-2008-3205
END:VEVENT

END:VCALENDAR
