BEGIN:VCALENDAR
VERSION:2.0
PRODID:-//ChamberMaster//Event Calendar 2.0//EN
METHOD:PUBLISH
X-PUBLISHED-TTL:P3D
REFRESH-INTERVAL:P3D
CALSCALE:GREGORIAN
BEGIN:VEVENT
DTSTART:20100731T180000Z
DTEND:20100801T020000Z
X-MICROSOFT-CDO-ALLDAYEVENT:FALSE
SUMMARY:Pekin Main Street Super Cruise
DESCRIPTION:Pekin Main Street 6th Anual Super CruiseA complete list of events is available at the link above.There is also an event map available.
X-ALT-DESC;FMTTYPE=text/html:<div>Pekin Main Street 6th Anual Super Cruise</div><div>A complete list of events is available at the link above.</div><div>There is also an event&nbsp\;<a href="http://www.pekinmainstreet.com/Document%20links/Super%20Cruise%20Downtown%20Map%202010.pdf">map</a> available.</div>
LOCATION:
UID:e.112.4916
SEQUENCE:3
DTSTAMP:20260422T185914Z
URL:http://www.business.pekinchamber.com/events/details/pekin-main-street-super-cruise-07-31-2010-4916
END:VEVENT

END:VCALENDAR
