BEGIN:VCALENDAR
VERSION:2.0
PRODID:-//ChamberMaster//Event Calendar 2.0//EN
METHOD:PUBLISH
X-PUBLISHED-TTL:P3D
REFRESH-INTERVAL:P3D
CALSCALE:GREGORIAN
BEGIN:VEVENT
DTSTART:20080726T220000Z
DTEND:20080727T020000Z
X-MICROSOFT-CDO-ALLDAYEVENT:FALSE
SUMMARY:Pekin Main Street Super Cruise
DESCRIPTION:Downtown Pekin fills up with beautifully restored cars for this 4th anuual popular event.  Last year over 2\,000 people attended this event.  Live music\, food vendors\, and spirits will be available.  This is a family events\, although alcohol will be sold.
X-ALT-DESC;FMTTYPE=text/html:<div>Downtown Pekin fills up with beautifully restored cars for this 4<sup>th </sup>anuual popular event.&nbsp\; Last year over 2\,000 people attended this event.&nbsp\; Live music\, food vendors\, and spirits will be available.&nbsp\; This is a family events\, although alcohol will be sold.</div>
LOCATION:
UID:e.112.3204
SEQUENCE:3
DTSTAMP:20260424T063722Z
URL:http://www.business.pekinchamber.com/events/details/pekin-main-street-super-cruise-07-26-2008-3204
END:VEVENT

END:VCALENDAR
