BEGIN:VCALENDAR
VERSION:2.0
PRODID:-//ChamberMaster//Event Calendar 2.0//EN
METHOD:PUBLISH
X-PUBLISHED-TTL:P3D
REFRESH-INTERVAL:P3D
CALSCALE:GREGORIAN
BEGIN:VEVENT
DTSTART:20081026T000000Z
DTEND:20081026T030000Z
X-MICROSOFT-CDO-ALLDAYEVENT:FALSE
SUMMARY:Pekin Main Street Halloween Pub Tour
DESCRIPTION:Walking tour of downtown drinking establishments.  Includes t-shirt\, entertainment\, raffle and drink specials.  This is an adult event.
X-ALT-DESC;FMTTYPE=text/html:<div>Walking tour of downtown drinking establishments.&nbsp\; Includes t-shirt\, entertainment\, raffle and drink specials.&nbsp\; This is an adult event.</div>
LOCATION:Lower Court Street
UID:e.112.3208
SEQUENCE:3
DTSTAMP:20260424T024156Z
URL:http://www.business.pekinchamber.com/events/details/pekin-main-street-halloween-pub-tour-10-25-2008-3208
END:VEVENT

END:VCALENDAR
