BEGIN:VCALENDAR
VERSION:2.0
PRODID:-//ChamberMaster//Event Calendar 2.0//EN
METHOD:PUBLISH
X-PUBLISHED-TTL:P3D
REFRESH-INTERVAL:P3D
CALSCALE:GREGORIAN
BEGIN:VEVENT
DTSTART:20081025T200000Z
DTEND:20081025T230000Z
X-MICROSOFT-CDO-ALLDAYEVENT:FALSE
SUMMARY:Pekin Main Street Halloween Parade and Downtown Trick or Treat
DESCRIPTION:Bringing back an age-old tradition to downtown Pekin.  All ages costume judging contest with cash prizes\, parade down Court Street\, and downtown businesses provide treats for the kids.
X-ALT-DESC;FMTTYPE=text/html:<p>Bringing back an age-old tradition to downtown Pekin.&nbsp\; All ages costume judging contest with cash prizes\, parade down Court Street\, and downtown businesses provide treats for the kids.&nbsp\;</p>
LOCATION:Parade will line up at James Field and come down Court Street to the Courthouse Lawn.
UID:e.112.3207
SEQUENCE:3
DTSTAMP:20260424T024233Z
URL:http://www.business.pekinchamber.com/events/details/pekin-main-street-halloween-parade-and-downtown-trick-or-treat-10-25-2008-3207
END:VEVENT

END:VCALENDAR
