BEGIN:VCALENDAR
VERSION:2.0
PRODID:-//ChamberMaster//Event Calendar 2.0//EN
METHOD:PUBLISH
X-PUBLISHED-TTL:P3D
REFRESH-INTERVAL:P3D
CALSCALE:GREGORIAN
BEGIN:VEVENT
DTSTART:20080905T220000Z
DTEND:20080906T030000Z
X-MICROSOFT-CDO-ALLDAYEVENT:FALSE
SUMMARY:Pekin Main Street Friday Night Family Fest / Lip Sync Contest
DESCRIPTION:Popular downtown fun event which kicks-off the annual Marigold Festival.  Features five hours of free entertainment on two stages\, including the Lip Sync Contest with 32 acts of all ages.  Huge variety of food vendors and soft drinks.
X-ALT-DESC;FMTTYPE=text/html:<div>Popular downtown fun event which kicks-off the annual Marigold Festival.&nbsp\; Features five hours of free entertainment on two stages\, including the Lip Sync Contest with 32 acts of all ages.&nbsp\; Huge variety of food vendors and soft drinks.</div>
LOCATION:All streets surrounding the Courthouse
UID:e.112.3074
SEQUENCE:3
DTSTAMP:20260424T035123Z
URL:http://www.business.pekinchamber.com/events/details/pekin-main-street-friday-night-family-fest-lip-sync-contest-09-05-2008-3074
END:VEVENT

END:VCALENDAR
