BEGIN:VCALENDAR
VERSION:2.0
PRODID:-//ChamberMaster//Event Calendar 2.0//EN
METHOD:PUBLISH
X-PUBLISHED-TTL:P3D
REFRESH-INTERVAL:P3D
CALSCALE:GREGORIAN
BEGIN:VEVENT
DTSTART:20090813T210000Z
DTEND:20090813T233000Z
X-MICROSOFT-CDO-ALLDAYEVENT:FALSE
SUMMARY:Pekin Main Street Farmers Market
DESCRIPTION:Pekin Main Street Farmer's Market featuring locally grown fresh produce\, delicious baked goods\, flowers and herbs\, crafts\, organic items and local artisits. Free\, live entertainment on the Couthouse lawn.
X-ALT-DESC;FMTTYPE=text/html:<p>Pekin Main Street Farmer's Market featuring locally grown fresh produce\, delicious baked goods\, flowers and herbs\, crafts\, organic items and local artisits. Free\, live entertainment on the Couthouse lawn.</p>
LOCATION:Capitol Street opposite Courthouse
UID:e.112.3711
SEQUENCE:3
DTSTAMP:20260423T113840Z
URL:http://www.business.pekinchamber.com/events/details/pekin-main-street-farmers-market-08-13-2009-3711
END:VEVENT

END:VCALENDAR
