BEGIN:VCALENDAR
VERSION:2.0
PRODID:-//ChamberMaster//Event Calendar 2.0//EN
METHOD:PUBLISH
X-PUBLISHED-TTL:P3D
REFRESH-INTERVAL:P3D
CALSCALE:GREGORIAN
BEGIN:VEVENT
DTSTART:20100730T230000Z
DTEND:20100731T030000Z
X-MICROSOFT-CDO-ALLDAYEVENT:FALSE
SUMMARY:Pekin Main Street Annual Super Cruise
DESCRIPTION:Pekin Main Street will host their 6th Annual Super Cruise
X-ALT-DESC;FMTTYPE=text/html:<div>Pekin Main Street will host their 6th Annual Super Cruise</div>
LOCATION:City Parking lot on Margaret St. between 3rd & Capitol.
UID:e.112.4915
SEQUENCE:3
DTSTAMP:20260422T185921Z
URL:http://www.business.pekinchamber.com/events/details/pekin-main-street-annual-super-cruise-07-30-2010-4915
END:VEVENT

END:VCALENDAR
