BEGIN:VCALENDAR
VERSION:2.0
PRODID:-//ChamberMaster//Event Calendar 2.0//EN
METHOD:PUBLISH
X-PUBLISHED-TTL:P3D
REFRESH-INTERVAL:P3D
CALSCALE:GREGORIAN
BEGIN:VEVENT
DTSTART:20070722T000000Z
DTEND:20070722T020000Z
X-MICROSOFT-CDO-ALLDAYEVENT:FALSE
SUMMARY:Pekin Insurance Miss Marigold Pageant
DESCRIPTION:The "Miss Marigold" Pageant began in 1973 and continues to be a highlight of the Pekin Marigold Festival celebration.  It is an opportunity for young women to compete in the categories of talent\, personal interview\, sportswear\, and evening gown in order to win scholarship money.  The pageant is open to single women who are 17-21 years old and who live or work in the city of Pekin.
X-ALT-DESC;FMTTYPE=text/html:The &quot\;Miss Marigold&quot\; Pageant began in 1973 and continues to be a highlight of the Pekin Marigold Festival celebration. &nbsp\;It is an opportunity for young women to compete in the categories of talent\, personal interview\, sportswear\, and evening gown in order to win scholarship money. &nbsp\;The pageant is open to single women who are 17-21 years old and who live or work in the city of Pekin.&nbsp\;&nbsp\;
LOCATION:Pekin Community High School
UID:e.112.2511
SEQUENCE:3
DTSTAMP:20260425T033640Z
URL:http://www.business.pekinchamber.com/events/details/pekin-insurance-miss-marigold-pageant-07-21-2007-2511
END:VEVENT

END:VCALENDAR
