BEGIN:VCALENDAR
VERSION:2.0
PRODID:-//ChamberMaster//Event Calendar 2.0//EN
METHOD:PUBLISH
X-PUBLISHED-TTL:P3D
REFRESH-INTERVAL:P3D
CALSCALE:GREGORIAN
BEGIN:VEVENT
DTSTART:20090219T233000Z
DTEND:20090220T010000Z
X-MICROSOFT-CDO-ALLDAYEVENT:FALSE
SUMMARY:Pekin Hospital to Present ?Love Your Heart?
DESCRIPTION:As part of American Heart Month\, an American Heart Association national campaign to raise awareness of heart disease\, Pekin Hospital will offer a free presentation\, ?Love Your Heart\,? on Thursday\, February 19 beginning at 5:30 p.m. at Pekin Hospital.\n\nMark Jackson\, M.D.\, cardiologist with HeartCare Midwest\, will present ?Steps to Defeating Heart Disease\,? a discussion on recognizing the symptoms of heart attacks\, reacting immediately\, risk factors for heart disease\, as well as prevention of heart attacks.  Free blood pressures will be provided following Dr. Jackson?s presentation.  A light dessert will also be served. This program is open to men and women.\n\nThrough promoting heart disease awareness\, Pekin Hospital hopes to improve heart health by providing community education on healthy eating\, exercising\, quitting smoking\, maintaining a healthy weight\, blood pressure and blood cholesterol\, and controlling diabetes.\n\nThe event will be held in the Park Court Conference Center. Registration is required and can be made by leaving your name and phone number at (309) 353-0662.
X-ALT-DESC;FMTTYPE=text/html:As part of American Heart Month\, an American Heart Association national campaign to raise awareness of heart disease\, Pekin Hospital will offer a free presentation\, ?Love Your Heart\,? on Thursday\, February 19 beginning at 5:30 p.m. at Pekin Hospital.\n\nMark Jackson\, M.D.\, cardiologist with HeartCare Midwest\, will present ?Steps to Defeating Heart Disease\,? a discussion on recognizing the symptoms of heart attacks\, reacting immediately\, risk factors for heart disease\, as well as prevention of heart attacks.  Free blood pressures will be provided following Dr. Jackson?s presentation.  A light dessert will also be served. This program is open to men and women.\n\nThrough promoting heart disease awareness\, Pekin Hospital hopes to improve heart health by providing community education on healthy eating\, exercising\, quitting smoking\, maintaining a healthy weight\, blood pressure and blood cholesterol\, and controlling diabetes.\n\nThe event will be held in the Park Court Conference Center. Registration is required and can be made by leaving your name and phone number at (309) 353-0662. \n
LOCATION:Park Court Medical Center in Pekin Hospital
UID:e.112.3659
SEQUENCE:3
DTSTAMP:20260423T203345Z
URL:http://www.business.pekinchamber.com/events/details/pekin-hospital-to-present-love-your-heart-02-19-2009-3659
END:VEVENT

END:VCALENDAR
