BEGIN:VCALENDAR
VERSION:2.0
PRODID:-//ChamberMaster//Event Calendar 2.0//EN
METHOD:PUBLISH
X-PUBLISHED-TTL:P3D
REFRESH-INTERVAL:P3D
CALSCALE:GREGORIAN
BEGIN:VEVENT
DTSTART:20080517T150000Z
DTEND:20080517T160000Z
X-MICROSOFT-CDO-ALLDAYEVENT:FALSE
SUMMARY:Pekin Fire Days Parade and Open House
DESCRIPTION:Fire Days parade kicks off from James Field at 10:00 am heading down Court Street to Capitol Street.   The festivities will then head to Fire Station #1 for an open house.  Food booths\, fire equipment displays\, music and many kids activities.
X-ALT-DESC;FMTTYPE=text/html:<div>Fire Days parade kicks off from James Field at 10:00 am heading down Court Street to Capitol Street.&nbsp\;&nbsp\; The festivities will then head to Fire Station #1 for an open house.&nbsp\; Food booths\, fire equipment displays\, music and many kids activities.</div>
LOCATION:Fire Station # 13232 Court St.
UID:e.112.3157
SEQUENCE:3
DTSTAMP:20260424T091840Z
URL:http://www.business.pekinchamber.com/events/details/pekin-fire-days-parade-and-open-house-05-17-2008-3157
END:VEVENT

END:VCALENDAR
