BEGIN:VCALENDAR
VERSION:2.0
PRODID:-//ChamberMaster//Event Calendar 2.0//EN
METHOD:PUBLISH
X-PUBLISHED-TTL:P3D
REFRESH-INTERVAL:P3D
CALSCALE:GREGORIAN
BEGIN:VEVENT
DTSTART:20091113T133000Z
DTEND:20091113T143000Z
X-MICROSOFT-CDO-ALLDAYEVENT:FALSE
SUMMARY:Pekin Area Network Meeting
DESCRIPTION:The Pekin Area Network is proud to welcome Pekin Mayor Rusty Dunn as its guest speaker.  Mayor Dunn will be discussing current economic conditions in the City of Pekin.  The event is sponsored by the Pekin Area Network and its members.  Refreshments and pastries will be served.
X-ALT-DESC;FMTTYPE=text/html:The Pekin Area Network is proud to welcome Pekin Mayor Rusty Dunn as its guest speaker.  Mayor Dunn will be discussing current economic conditions in the City of Pekin.  The event is sponsored by the Pekin Area Network and its members.  Refreshments and pastries will be served.  
LOCATION:Pekin Public Library301 S. Fourth
UID:e.112.3733
SEQUENCE:3
DTSTAMP:20260423T070828Z
URL:http://www.business.pekinchamber.com/events/details/pekin-area-network-meeting-11-13-2009-3733
END:VEVENT

END:VCALENDAR
