BEGIN:VCALENDAR
VERSION:2.0
PRODID:-//ChamberMaster//Event Calendar 2.0//EN
METHOD:PUBLISH
X-PUBLISHED-TTL:P3D
REFRESH-INTERVAL:P3D
CALSCALE:GREGORIAN
BEGIN:VEVENT
DTSTART:20100116T150000Z
DTEND:20100116T210000Z
X-MICROSOFT-CDO-ALLDAYEVENT:FALSE
SUMMARY:Pekin Area Business EXPO '10
DESCRIPTION:Come see what the Pekin area business community has to offer.  One hundred displays\, door prize drawings\, demonstrations\, entertainment\, free parking and free admission.  Attention Vendors:  Booth registration deadline is December 18th.  Call the Pekin Area Chamber of Commerce at 346-2106 or click here to download application.
X-ALT-DESC;FMTTYPE=text/html:<div>Come see what the Pekin area business community has to offer.&nbsp\; One hundred displays\, door prize drawings\, demonstrations\, entertainment\, free parking and free admission.</div><div>&nbsp\;</div><div>&nbsp\;</div><div>Attention Vendors:&nbsp\; Booth registration deadline is December 18th.&nbsp\; Call the Pekin Area Chamber of Commerce at 346-2106 or click here to download application.</div>
LOCATION:Pekin Dragon's Dome3401 Griffin Ave.Pekin\, IL
UID:e.112.4857
SEQUENCE:3
DTSTAMP:20260423T040917Z
URL:http://www.business.pekinchamber.com/events/details/pekin-area-business-expo-10-01-16-2010-4857
END:VEVENT

END:VCALENDAR
