BEGIN:VCALENDAR
VERSION:2.0
PRODID:-//ChamberMaster//Event Calendar 2.0//EN
METHOD:PUBLISH
X-PUBLISHED-TTL:P3D
REFRESH-INTERVAL:P3D
CALSCALE:GREGORIAN
BEGIN:VEVENT
DTSTART:20090131T150000Z
DTEND:20090131T210000Z
X-MICROSOFT-CDO-ALLDAYEVENT:FALSE
SUMMARY:Pekin Area Business EXPO '09
DESCRIPTION:Come see what the Pekin business community has to offer.  One hundred displays\, door prize drawings\, demonstrations\, entertainment\, free parking and free admission. Attention Vendors:  Booth registration deadline is December 19th.  Call the Pekin Area Chamber of Commerce at 346-2106 or click here to download a booth application.
X-ALT-DESC;FMTTYPE=text/html:<div>Come see what the Pekin business community has to offer.&nbsp\; One hundred displays\, door prize drawings\, demonstrations\, entertainment\, free parking and free admission.</div><div>&nbsp\;</div><div>Attention Vendors:&nbsp\; Booth registration deadline is December 19th.&nbsp\; Call the Pekin Area Chamber of Commerce at 346-2106 or <a href="http://www.pekin.net/newsletters/Ads/RecruitmentMailer.pdf">click here</a> to download a booth application.</div>
LOCATION:Pekin Dragon's Dome3401 Griffin Avenue
UID:e.112.3222
SEQUENCE:3
DTSTAMP:20260423T220128Z
URL:http://www.business.pekinchamber.com/events/details/pekin-area-business-expo-09-01-31-2009-3222
END:VEVENT

END:VCALENDAR
