BEGIN:VCALENDAR
VERSION:2.0
PRODID:-//ChamberMaster//Event Calendar 2.0//EN
METHOD:PUBLISH
X-PUBLISHED-TTL:P3D
REFRESH-INTERVAL:P3D
CALSCALE:GREGORIAN
BEGIN:VEVENT
DTSTART:20120114T150000Z
DTEND:20120114T200000Z
X-MICROSOFT-CDO-ALLDAYEVENT:FALSE
SUMMARY:Pekin Area Business Expo
DESCRIPTION:Come see exhibits from the Pekin business community\, including product displays\, demonstrations\, and free gifts.  The Expo will also feature activities for the kids from Fun on the Run and the Unique Twists Balloon Artists.  There will entertainment on stage all day and free door prize drawings.
X-ALT-DESC;FMTTYPE=text/html:<p>\n	Come see exhibits from the Pekin business community\, including product displays\, demonstrations\, and free gifts.&nbsp\; The Expo will also feature activities for the kids from Fun on the Run and the Unique Twists Balloon Artists.&nbsp\; There will entertainment on stage all day and free door prize drawings.</p>\n
LOCATION:Avanti's Dome Events and Sports Center of Pekin 3401 Griffin Avenue
UID:e.112.5361
SEQUENCE:3
DTSTAMP:20260420T115950Z
URL:http://www.business.pekinchamber.com/events/details/pekin-area-business-expo-01-14-2012-5361
END:VEVENT

END:VCALENDAR
