BEGIN:VCALENDAR
VERSION:2.0
PRODID:-//ChamberMaster//Event Calendar 2.0//EN
METHOD:PUBLISH
X-PUBLISHED-TTL:P3D
REFRESH-INTERVAL:P3D
CALSCALE:GREGORIAN
BEGIN:VEVENT
DTSTART:20071103T123000Z
DTEND:20071103T133000Z
X-MICROSOFT-CDO-ALLDAYEVENT:FALSE
SUMMARY:Pekin 1st Committee
DESCRIPTION:
X-ALT-DESC;FMTTYPE=text/html:
LOCATION:Holiday Inn Express
UID:e.112.2707
SEQUENCE:3
DTSTAMP:20260424T211339Z
URL:http://www.business.pekinchamber.com/events/details/pekin-1st-committee-11-03-2007-2707
END:VEVENT

END:VCALENDAR
