BEGIN:VCALENDAR
VERSION:2.0
PRODID:-//ChamberMaster//Event Calendar 2.0//EN
METHOD:PUBLISH
X-PUBLISHED-TTL:P3D
REFRESH-INTERVAL:P3D
CALSCALE:GREGORIAN
BEGIN:VEVENT
DTSTART:20090411T190000Z
DTEND:20090412T000000Z
X-MICROSOFT-CDO-ALLDAYEVENT:FALSE
SUMMARY:Our American Cousin
DESCRIPTION:This is your official invitation to attend a play to celebrate Abe Lincoln's 200th birthday. There will even be cake to help celebrate.\n\n"Our American Cousin" will be performed at 2:00 pm and 7:00 pm on April 11th at the Pekin Union Mission\, 203 Court Street. Tickets are $8.00 and available at the Tazewell County Museum\, Vonderheide's Carpet on Derby\, Excalibur Seasoning\, Pekin Area Chamber of Commerce and any of the committee members.\n\nPresident Abraham Lincoln (portrayed by a professional actor) will be in attendance\, as will the first lady. Please download the flyer for all the information. It is based on the original play poster.\n\nDownload the flyer at: http://www.pekin.net/newsletters/Ads/cousin.pdf
X-ALT-DESC;FMTTYPE=text/html:<p><font size="3">This is your official invitation to attend a play to celebrate Abe Lincoln's 200th birthday. There will even be cake to help celebrate.<br /><br />&quot\;Our American Cousin&quot\; will be performed at 2:00 pm and 7:00 pm on April 11th at the Pekin Union Mission\, 203 Court Street. Tickets are $8.00 and available at the Tazewell County Museum\, Vonderheide's Carpet on Derby\, Excalibur Seasoning\, Pekin Area Chamber of Commerce and any of the committee members.<br /><br />President Abraham Lincoln (portrayed by a professional actor) will be in attendance\, as will the first lady. Please download the flyer for all the information. It is based on the original play poster.<br /><br />Download the flyer at: </font><a href="http://www.pekin.net/newsletters/Ads/cousin.pdf"><font color="#0d8f63" size="3">http://www.pekin.net/newsletters/Ads/cousin.pdf</font></a></p>
LOCATION:Pekin Union Mission203 Court StreetPekin
UID:e.112.3669
SEQUENCE:3
DTSTAMP:20260423T172225Z
URL:http://www.business.pekinchamber.com/events/details/our-american-cousin-04-11-2009-3669
END:VEVENT

END:VCALENDAR
