BEGIN:VCALENDAR
VERSION:2.0
PRODID:-//ChamberMaster//Event Calendar 2.0//EN
METHOD:PUBLISH
X-PUBLISHED-TTL:P3D
REFRESH-INTERVAL:P3D
CALSCALE:GREGORIAN
BEGIN:VEVENT
DTSTART:20111015T233000Z
DTEND:20111016T020000Z
X-MICROSOFT-CDO-ALLDAYEVENT:FALSE
SUMMARY:New Exhibit Opening: Things That Never Were: Alec DeJesus and Nikole Cooney
DESCRIPTION:Come experience the bazaar\, stimulating\, surreal\, and fearless work of Alec DeJesus and Nikole Cooney as they celebrate the opening of their new exhibit THINGS THAT NEVER WERE.... Complimentary Carnival-style refreshments will be provided. This exhibit will run through Oct. 31st
X-ALT-DESC;FMTTYPE=text/html:Come experience the bazaar\, stimulating\, surreal\, and fearless work of Alec DeJesus and Nikole Cooney as they celebrate the opening of their new exhibit THINGS THAT NEVER WERE.... Complimentary Carnival-style refreshments will be provided. This exhibit will run through Oct. 31st
LOCATION:Speakeasy Art Center
UID:e.112.5392
SEQUENCE:3
DTSTAMP:20260421T195420Z
URL:http://www.business.pekinchamber.com/events/details/new-exhibit-opening-things-that-never-were-alec-dejesus-and-nikole-cooney-10-15-2011-5392
END:VEVENT

END:VCALENDAR
