BEGIN:VCALENDAR
VERSION:2.0
PRODID:-//ChamberMaster//Event Calendar 2.0//EN
METHOD:PUBLISH
X-PUBLISHED-TTL:P3D
REFRESH-INTERVAL:P3D
CALSCALE:GREGORIAN
BEGIN:VEVENT
DTSTART:20101029T230000Z
DTEND:20101030T030000Z
X-MICROSOFT-CDO-ALLDAYEVENT:FALSE
SUMMARY:Murder Mystery at Best Western Ashland House & Conference Center
DESCRIPTION:A Murder Mystery Dinner & Wine Tasting\n\n"Fangs for the Memories"
X-ALT-DESC;FMTTYPE=text/html:A Murder Mystery Dinner &amp\; Wine Tasting\n<br>"Fangs for the Memories"
LOCATION:201 E. Ashland Ave. Morton\, IL 61550
UID:e.112.4925
SEQUENCE:3
DTSTAMP:20260422T143026Z
URL:http://www.business.pekinchamber.com/events/details/murder-mystery-at-best-western-ashland-house-conference-center-10-29-2010-4925
END:VEVENT

END:VCALENDAR
