BEGIN:VCALENDAR
VERSION:2.0
PRODID:-//ChamberMaster//Event Calendar 2.0//EN
METHOD:PUBLISH
X-PUBLISHED-TTL:P3D
REFRESH-INTERVAL:P3D
CALSCALE:GREGORIAN
BEGIN:VEVENT
DTSTART:20090328T140000Z
DTEND:20090328T220000Z
X-MICROSOFT-CDO-ALLDAYEVENT:FALSE
SUMMARY:Movin' Morton (Garage Sale)
DESCRIPTION:Swap Meet / Trade Show /Garage Sale Calling All Vendors !$40.00 per 8' Table or 10x10 space Calling All Garage Sale'rsBrowse\, Shop\, Buy\, Sell\, Eat \,Drink\, Play\,Stay\, Food Concessions
X-ALT-DESC;FMTTYPE=text/html:<div>Swap Meet / Trade Show /Garage Sale</div><div>&nbsp\;</div><div>Calling All Vendors !</div><div>$40.00 per 8&rsquo\; Table or 10x10 space</div><div>&nbsp\;</div><div>Calling All Garage Sale&rsquo\;rs</div><div>Browse\, Shop\, Buy\, Sell\, Eat \,Drink\, Play\,Stay\, Food Concessions</div>
LOCATION:Best Western Ashland House\, Morton Illinois
UID:e.112.3665
SEQUENCE:3
DTSTAMP:20260423T185520Z
URL:http://www.business.pekinchamber.com/events/details/movin-morton-garage-sale-03-28-2009-3665
END:VEVENT

END:VCALENDAR
