BEGIN:VCALENDAR
VERSION:2.0
PRODID:-//ChamberMaster//Event Calendar 2.0//EN
METHOD:PUBLISH
X-PUBLISHED-TTL:P3D
REFRESH-INTERVAL:P3D
CALSCALE:GREGORIAN
BEGIN:VEVENT
DTSTART:20080810T000000Z
DTEND:20080810T000000Z
X-MICROSOFT-CDO-ALLDAYEVENT:FALSE
SUMMARY:Miss Marigold Pageant
DESCRIPTION:Miss Marigold Pageant
X-ALT-DESC;FMTTYPE=text/html:<div>Miss Marigold Pageant</div>
LOCATION:Pekin Community High SchoolFM Peterson Theatre
UID:e.112.3217
SEQUENCE:3
DTSTAMP:20260424T051044Z
URL:http://www.business.pekinchamber.com/events/details/miss-marigold-pageant-08-09-2008-3217
END:VEVENT

END:VCALENDAR
