BEGIN:VCALENDAR
VERSION:2.0
PRODID:-//ChamberMaster//Event Calendar 2.0//EN
METHOD:PUBLISH
X-PUBLISHED-TTL:P3D
REFRESH-INTERVAL:P3D
CALSCALE:GREGORIAN
BEGIN:VEVENT
DTSTART:20111213T133000Z
DTEND:20111213T143000Z
X-MICROSOFT-CDO-ALLDAYEVENT:FALSE
SUMMARY:Member Services Committee
DESCRIPTION:Member Services Committee
X-ALT-DESC;FMTTYPE=text/html:<div>\n	Member Services Committee</div>\n
LOCATION:Chamber Offices
UID:e.112.4458
SEQUENCE:3
DTSTAMP:20260420T131857Z
URL:http://www.business.pekinchamber.com/events/details/member-services-committee-12-13-2011-4458
END:VEVENT

END:VCALENDAR
