BEGIN:VCALENDAR
VERSION:2.0
PRODID:-//ChamberMaster//Event Calendar 2.0//EN
METHOD:PUBLISH
X-PUBLISHED-TTL:P3D
REFRESH-INTERVAL:P3D
CALSCALE:GREGORIAN
BEGIN:VEVENT
DTSTART:20110712T123000Z
DTEND:20110712T133000Z
X-MICROSOFT-CDO-ALLDAYEVENT:FALSE
SUMMARY:Member Services Committee
DESCRIPTION:Member Services Committee
X-ALT-DESC;FMTTYPE=text/html:<div>Member Services Committee</div>
LOCATION:Chamber Offices
UID:e.112.4453
SEQUENCE:3
DTSTAMP:20260422T002434Z
URL:http://www.business.pekinchamber.com/events/details/member-services-committee-07-12-2011-4453
END:VEVENT

END:VCALENDAR
