BEGIN:VCALENDAR
VERSION:2.0
PRODID:-//ChamberMaster//Event Calendar 2.0//EN
METHOD:PUBLISH
X-PUBLISHED-TTL:P3D
REFRESH-INTERVAL:P3D
CALSCALE:GREGORIAN
BEGIN:VEVENT
DTSTART:20111207T133000Z
DTEND:20111207T143000Z
X-MICROSOFT-CDO-ALLDAYEVENT:FALSE
SUMMARY:Member Promotion Meeting
DESCRIPTION:Member Promotion Meeting
X-ALT-DESC;FMTTYPE=text/html:<div>Member Promotion Meeting</div>
LOCATION:Chamber Office
UID:e.112.5310
SEQUENCE:3
DTSTAMP:20260420T132024Z
URL:http://www.business.pekinchamber.com/events/details/member-promotion-meeting-12-07-2011-5310
END:VEVENT

END:VCALENDAR
