BEGIN:VCALENDAR
VERSION:2.0
PRODID:-//ChamberMaster//Event Calendar 2.0//EN
METHOD:PUBLISH
X-PUBLISHED-TTL:P3D
REFRESH-INTERVAL:P3D
CALSCALE:GREGORIAN
BEGIN:VEVENT
DTSTART:20111102T123000Z
DTEND:20111102T133000Z
X-MICROSOFT-CDO-ALLDAYEVENT:FALSE
SUMMARY:Member Promotion Meeting
DESCRIPTION:Member Promotion Meeting
X-ALT-DESC;FMTTYPE=text/html:<div>Member Promotion Meeting</div>
LOCATION:Chamber Office
UID:e.112.5400
SEQUENCE:3
DTSTAMP:20260421T181535Z
URL:http://www.business.pekinchamber.com/events/details/member-promotion-meeting-11-02-2011-5400
END:VEVENT

END:VCALENDAR
